BEGIN:VCALENDAR
VERSION:2.0
PRODID:-//Sedbergh Parish Council//Meeting Calendar//EN
CALSCALE:GREGORIAN
METHOD:PUBLISH
BEGIN:VEVENT
UID:70465-20250410@sedberghparishcouncil.gov.uk
DTSTAMP:20260419T220733Z
DTSTART;VALUE=DATE:20250410
DTEND;VALUE=DATE:20250411
SUMMARY:Full Council Meeting &#8211\\; 10 April 2025
DESCRIPTION:Full Council Meeting\nView details: https://sedberghparishcouncil.gov.uk/meetings/full-council-meeting-10-april-2025/
URL:https://sedberghparishcouncil.gov.uk/meetings/full-council-meeting-10-april-2025/
END:VEVENT
END:VCALENDAR
