BEGIN:VCALENDAR
VERSION:2.0
PRODID:-//Sedbergh Parish Council//Meeting Calendar//EN
CALSCALE:GREGORIAN
METHOD:PUBLISH
BEGIN:VEVENT
UID:70476-20250814@sedberghparishcouncil.gov.uk
DTSTAMP:20260419T234525Z
DTSTART;VALUE=DATE:20250814
DTEND;VALUE=DATE:20250815
SUMMARY:Full Council Meeting &#8211\\; 14 August 2025
DESCRIPTION:Full Council Meeting\nView details: https://sedberghparishcouncil.gov.uk/meetings/full-council-meeting-14-august-2025/
URL:https://sedberghparishcouncil.gov.uk/meetings/full-council-meeting-14-august-2025/
END:VEVENT
END:VCALENDAR
