BEGIN:VCALENDAR
VERSION:2.0
PRODID:-//Sedbergh Parish Council//Meeting Calendar//EN
CALSCALE:GREGORIAN
METHOD:PUBLISH
BEGIN:VEVENT
UID:70477-20251009@sedberghparishcouncil.gov.uk
DTSTAMP:20260420T025657Z
DTSTART;VALUE=DATE:20251009
DTEND;VALUE=DATE:20251010
SUMMARY:Full Council Meeting &#8211\\; 9 October 2025
DESCRIPTION:Full Council Meeting\nView details: https://sedberghparishcouncil.gov.uk/meetings/full-council-meeting-9-october-2025/
URL:https://sedberghparishcouncil.gov.uk/meetings/full-council-meeting-9-october-2025/
END:VEVENT
END:VCALENDAR
