BEGIN:VCALENDAR
VERSION:2.0
PRODID:-//Sedbergh Parish Council//Meeting Calendar//EN
CALSCALE:GREGORIAN
METHOD:PUBLISH
BEGIN:VEVENT
UID:70478-20251113@sedberghparishcouncil.gov.uk
DTSTAMP:20260420T042259Z
DTSTART;VALUE=DATE:20251113
DTEND;VALUE=DATE:20251114
SUMMARY:Full Council Meeting &#8211\\; 13 November 2025
DESCRIPTION:Full Council Meeting\nView details: https://sedberghparishcouncil.gov.uk/meetings/full-council-meeting-13-november-2025/
URL:https://sedberghparishcouncil.gov.uk/meetings/full-council-meeting-13-november-2025/
END:VEVENT
END:VCALENDAR
