BEGIN:VCALENDAR
VERSION:2.0
PRODID:-//Sedbergh Parish Council//Meeting Calendar//EN
CALSCALE:GREGORIAN
METHOD:PUBLISH
BEGIN:VEVENT
UID:70513-20220101@sedberghparishcouncil.gov.uk
DTSTAMP:20260419T184053Z
DTSTART;VALUE=DATE:20220101
DTEND;VALUE=DATE:20220102
SUMMARY:Full Council Meetings &#8211\\; 2022
DESCRIPTION:Full Council Meeting\nView details: https://sedberghparishcouncil.gov.uk/meetings/full-council-meetings-2022/
URL:https://sedberghparishcouncil.gov.uk/meetings/full-council-meetings-2022/
END:VEVENT
END:VCALENDAR
