BEGIN:VCALENDAR
VERSION:2.0
PRODID:-//Sedbergh Parish Council//Meeting Calendar//EN
CALSCALE:GREGORIAN
METHOD:PUBLISH
BEGIN:VEVENT
UID:70528-20220512@sedberghparishcouncil.gov.uk
DTSTAMP:20260419T184053Z
DTSTART;VALUE=DATE:20220512
DTEND;VALUE=DATE:20220513
SUMMARY:Annual Parish Meeting &#8211\\; 12 May 2022
DESCRIPTION:Annual Parish Meeting\nView details: https://sedberghparishcouncil.gov.uk/meetings/annual-parish-meeting-12-may-2022/
URL:https://sedberghparishcouncil.gov.uk/meetings/annual-parish-meeting-12-may-2022/
END:VEVENT
END:VCALENDAR
