BEGIN:VCALENDAR
VERSION:2.0
PRODID:-//Sedbergh Parish Council//Meeting Calendar//EN
CALSCALE:GREGORIAN
METHOD:PUBLISH
BEGIN:VEVENT
UID:70531-20250106@sedberghparishcouncil.gov.uk
DTSTAMP:20260419T234703Z
DTSTART;VALUE=DATE:20250106
DTEND;VALUE=DATE:20250107
SUMMARY:Finance Committee Meeting &#8211\\; 6 January 2025
DESCRIPTION:Finance Committee Meeting\nView details: https://sedberghparishcouncil.gov.uk/meetings/finance-committee-meeting-6-january-2025/
URL:https://sedberghparishcouncil.gov.uk/meetings/finance-committee-meeting-6-january-2025/
END:VEVENT
END:VCALENDAR
