BEGIN:VCALENDAR
VERSION:2.0
PRODID:-//Sedbergh Parish Council//Meeting Calendar//EN
CALSCALE:GREGORIAN
METHOD:PUBLISH
BEGIN:VEVENT
UID:70533-20250210@sedberghparishcouncil.gov.uk
DTSTAMP:20260420T005952Z
DTSTART;VALUE=DATE:20250210
DTEND;VALUE=DATE:20250211
SUMMARY:Finance Committee Meeting &#8211\\; 10 February 2025
DESCRIPTION:Finance Committee Meeting\nView details: https://sedberghparishcouncil.gov.uk/meetings/finance-committee-meeting-10-february-2025/
URL:https://sedberghparishcouncil.gov.uk/meetings/finance-committee-meeting-10-february-2025/
END:VEVENT
END:VCALENDAR
