BEGIN:VCALENDAR
VERSION:2.0
PRODID:-//Sedbergh Parish Council//Meeting Calendar//EN
CALSCALE:GREGORIAN
METHOD:PUBLISH
BEGIN:VEVENT
UID:70537-20250407@sedberghparishcouncil.gov.uk
DTSTAMP:20260420T024018Z
DTSTART;VALUE=DATE:20250407
DTEND;VALUE=DATE:20250408
SUMMARY:Finance Committee Meeting &#8211\\; 7 April 2025
DESCRIPTION:Finance Committee Meeting\nView details: https://sedberghparishcouncil.gov.uk/meetings/finance-committee-meeting-7-april-2025/
URL:https://sedberghparishcouncil.gov.uk/meetings/finance-committee-meeting-7-april-2025/
END:VEVENT
END:VCALENDAR
