BEGIN:VCALENDAR
VERSION:2.0
PRODID:-//Sedbergh Parish Council//Meeting Calendar//EN
CALSCALE:GREGORIAN
METHOD:PUBLISH
BEGIN:VEVENT
UID:70539-20250512@sedberghparishcouncil.gov.uk
DTSTAMP:20260420T024124Z
DTSTART;VALUE=DATE:20250512
DTEND;VALUE=DATE:20250513
SUMMARY:Finance Committee Meeting &#8211\\; 12 May 2025
DESCRIPTION:Finance Committee Meeting\nView details: https://sedberghparishcouncil.gov.uk/meetings/finance-committee-meeting-12-may-2025/
URL:https://sedberghparishcouncil.gov.uk/meetings/finance-committee-meeting-12-may-2025/
END:VEVENT
END:VCALENDAR
