BEGIN:VCALENDAR
VERSION:2.0
PRODID:-//Sedbergh Parish Council//Meeting Calendar//EN
CALSCALE:GREGORIAN
METHOD:PUBLISH
BEGIN:VEVENT
UID:70541-20250609@sedberghparishcouncil.gov.uk
DTSTAMP:20260420T042143Z
DTSTART;VALUE=DATE:20250609
DTEND;VALUE=DATE:20250610
SUMMARY:Finance Committee Meeting &#8211\\; 9 June 2025
DESCRIPTION:Finance Committee Meeting\nView details: https://sedberghparishcouncil.gov.uk/meetings/finance-committee-meeting-9-june-2025/
URL:https://sedberghparishcouncil.gov.uk/meetings/finance-committee-meeting-9-june-2025/
END:VEVENT
END:VCALENDAR
