BEGIN:VCALENDAR
VERSION:2.0
PRODID:-//Sedbergh Parish Council//Meeting Calendar//EN
CALSCALE:GREGORIAN
METHOD:PUBLISH
BEGIN:VEVENT
UID:70545-20250707@sedberghparishcouncil.gov.uk
DTSTAMP:20260420T060340Z
DTSTART;VALUE=DATE:20250707
DTEND;VALUE=DATE:20250708
SUMMARY:Finance Committee Meeting &#8211\\; 7 July 2025
DESCRIPTION:Finance Committee Meeting\nView details: https://sedberghparishcouncil.gov.uk/meetings/finance-committee-meeting-7-july-2025/
URL:https://sedberghparishcouncil.gov.uk/meetings/finance-committee-meeting-7-july-2025/
END:VEVENT
END:VCALENDAR
