BEGIN:VCALENDAR
VERSION:2.0
PRODID:-//Sedbergh Parish Council//Meeting Calendar//EN
CALSCALE:GREGORIAN
METHOD:PUBLISH
BEGIN:VEVENT
UID:70547-20250814@sedberghparishcouncil.gov.uk
DTSTAMP:20260420T070356Z
DTSTART;VALUE=DATE:20250814
DTEND;VALUE=DATE:20250815
SUMMARY:Finance Committee Meeting &#8211\\; 11 August 2025
DESCRIPTION:Finance Committee Meeting\nView details: https://sedberghparishcouncil.gov.uk/meetings/finance-committee-meeting-14-august-2025/
URL:https://sedberghparishcouncil.gov.uk/meetings/finance-committee-meeting-14-august-2025/
END:VEVENT
END:VCALENDAR
