BEGIN:VCALENDAR
VERSION:2.0
PRODID:-//Sedbergh Parish Council//Meeting Calendar//EN
CALSCALE:GREGORIAN
METHOD:PUBLISH
BEGIN:VEVENT
UID:70548-20250908@sedberghparishcouncil.gov.uk
DTSTAMP:20260420T143836Z
DTSTART;VALUE=DATE:20250908
DTEND;VALUE=DATE:20250909
SUMMARY:Finance Committee Meeting &#8211\\; 8 September 2025
DESCRIPTION:Finance Committee Meeting\nView details: https://sedberghparishcouncil.gov.uk/meetings/finance-committee-meeting-8-september-2025/
URL:https://sedberghparishcouncil.gov.uk/meetings/finance-committee-meeting-8-september-2025/
END:VEVENT
END:VCALENDAR
