BEGIN:VCALENDAR
VERSION:2.0
PRODID:-//Sedbergh Parish Council//Meeting Calendar//EN
CALSCALE:GREGORIAN
METHOD:PUBLISH
BEGIN:VEVENT
UID:70549-20250911@sedberghparishcouncil.gov.uk
DTSTAMP:20260420T011901Z
DTSTART;VALUE=DATE:20250911
DTEND;VALUE=DATE:20250912
SUMMARY:Full Council Meeting &#8211\\; 11 September 2025
DESCRIPTION:Full Council Meeting\nView details: https://sedberghparishcouncil.gov.uk/meetings/finance-committee-meeting-11-september-2025/
URL:https://sedberghparishcouncil.gov.uk/meetings/finance-committee-meeting-11-september-2025/
END:VEVENT
END:VCALENDAR
