BEGIN:VCALENDAR
VERSION:2.0
PRODID:-//Sedbergh Parish Council//Meeting Calendar//EN
CALSCALE:GREGORIAN
METHOD:PUBLISH
BEGIN:VEVENT
UID:70551-20251110@sedberghparishcouncil.gov.uk
DTSTAMP:20260424T101300Z
DTSTART;VALUE=DATE:20251110
DTEND;VALUE=DATE:20251111
SUMMARY:Finance Committee Meeting &#8211\\; 10 November 2025
DESCRIPTION:Finance Committee Meeting\nView details: https://sedberghparishcouncil.gov.uk/meetings/finance-committee-meeting-10-november-2025/
URL:https://sedberghparishcouncil.gov.uk/meetings/finance-committee-meeting-10-november-2025/
END:VEVENT
END:VCALENDAR
