BEGIN:VCALENDAR
VERSION:2.0
PRODID:-//Sedbergh Parish Council//Meeting Calendar//EN
CALSCALE:GREGORIAN
METHOD:PUBLISH
BEGIN:VEVENT
UID:70552-20251208@sedberghparishcouncil.gov.uk
DTSTAMP:20260424T094715Z
DTSTART;VALUE=DATE:20251208
DTEND;VALUE=DATE:20251209
SUMMARY:Finance Committee Meeting &#8211\\; 8 December 2025
DESCRIPTION:Finance Committee Meeting\nView details: https://sedberghparishcouncil.gov.uk/meetings/finance-committee-meeting-8-december-2025/
URL:https://sedberghparishcouncil.gov.uk/meetings/finance-committee-meeting-8-december-2025/
END:VEVENT
END:VCALENDAR
