BEGIN:VCALENDAR
VERSION:2.0
PRODID:-//Sedbergh Parish Council//Meeting Calendar//EN
CALSCALE:GREGORIAN
METHOD:PUBLISH
BEGIN:VEVENT
UID:70592-20250206@sedberghparishcouncil.gov.uk
DTSTAMP:20260420T005836Z
DTSTART;VALUE=DATE:20250206
DTEND;VALUE=DATE:20250207
SUMMARY:Amenities Committee Meeting &#8211\\; 6 February 2025
DESCRIPTION:Amenities and Queen's Garden Committee Meeting\nView details: https://sedberghparishcouncil.gov.uk/meetings/amenities-committee-meeting-6-february-2025/
URL:https://sedberghparishcouncil.gov.uk/meetings/amenities-committee-meeting-6-february-2025/
END:VEVENT
END:VCALENDAR
