BEGIN:VCALENDAR
VERSION:2.0
PRODID:-//Sedbergh Parish Council//Meeting Calendar//EN
CALSCALE:GREGORIAN
METHOD:PUBLISH
BEGIN:VEVENT
UID:70594-20250903@sedberghparishcouncil.gov.uk
DTSTAMP:20260420T024149Z
DTSTART;VALUE=DATE:20250903
DTEND;VALUE=DATE:20250904
SUMMARY:Amenities Committee Meeting &#8211\\; 3 September 2025
DESCRIPTION:Amenities and Queen's Garden Committee Meeting\nView details: https://sedberghparishcouncil.gov.uk/meetings/amenities-committee-meeting-6-august-2025/
URL:https://sedberghparishcouncil.gov.uk/meetings/amenities-committee-meeting-6-august-2025/
END:VEVENT
END:VCALENDAR
