BEGIN:VCALENDAR
VERSION:2.0
PRODID:-//Sedbergh Parish Council//Meeting Calendar//EN
CALSCALE:GREGORIAN
METHOD:PUBLISH
BEGIN:VEVENT
UID:70605-20220101@sedberghparishcouncil.gov.uk
DTSTAMP:20260419T184119Z
DTSTART;VALUE=DATE:20220101
DTEND;VALUE=DATE:20220102
SUMMARY:Amenities Committee Meetings &#8211\\; 2022
DESCRIPTION:Amenities and Queen's Garden Committee Meeting\nView details: https://sedberghparishcouncil.gov.uk/meetings/amenities-committee-meetings-2022/
URL:https://sedberghparishcouncil.gov.uk/meetings/amenities-committee-meetings-2022/
END:VEVENT
END:VCALENDAR
