BEGIN:VCALENDAR
VERSION:2.0
PRODID:-//Sedbergh Parish Council//Meeting Calendar//EN
CALSCALE:GREGORIAN
METHOD:PUBLISH
BEGIN:VEVENT
UID:70716-20250812@sedberghparishcouncil.gov.uk
DTSTAMP:20260419T201448Z
DTSTART;VALUE=DATE:20250812
DTEND;VALUE=DATE:20250813
SUMMARY:Planning Committee 12 August 2025
DESCRIPTION:Planning Committee Meeting\nView details: https://sedberghparishcouncil.gov.uk/meetings/planning-committee-12-august-2025/
URL:https://sedberghparishcouncil.gov.uk/meetings/planning-committee-12-august-2025/
END:VEVENT
END:VCALENDAR
