BEGIN:VCALENDAR
VERSION:2.0
PRODID:-//Sedbergh Parish Council//Meeting Calendar//EN
CALSCALE:GREGORIAN
METHOD:PUBLISH
BEGIN:VEVENT
UID:70748-20251103@sedberghparishcouncil.gov.uk
DTSTAMP:20260420T042305Z
DTSTART;VALUE=DATE:20251103
DTEND;VALUE=DATE:20251104
SUMMARY:Amenities Committee Meeting &#8211\\; 3 November 2025 (no meeting)
DESCRIPTION:Amenities and Queen's Garden Committee Meeting\nView details: https://sedberghparishcouncil.gov.uk/meetings/amenities-committee-meeting/
URL:https://sedberghparishcouncil.gov.uk/meetings/amenities-committee-meeting/
END:VEVENT
END:VCALENDAR
