BEGIN:VCALENDAR
VERSION:2.0
PRODID:-//Sedbergh Parish Council//Meeting Calendar//EN
CALSCALE:GREGORIAN
METHOD:PUBLISH
BEGIN:VEVENT
UID:70759-20260115@sedberghparishcouncil.gov.uk
DTSTAMP:20260419T184119Z
DTSTART;VALUE=DATE:20260115
DTEND;VALUE=DATE:20260116
SUMMARY:Full Council Meeting &#8211\\; 15 January 2026
DESCRIPTION:Full Council Meeting\nView details: https://sedberghparishcouncil.gov.uk/meetings/full-council-meeting-15-january-2026/
URL:https://sedberghparishcouncil.gov.uk/meetings/full-council-meeting-15-january-2026/
END:VEVENT
END:VCALENDAR
