BEGIN:VCALENDAR
VERSION:2.0
PRODID:-//Sedbergh Parish Council//Meeting Calendar//EN
CALSCALE:GREGORIAN
METHOD:PUBLISH
BEGIN:VEVENT
UID:70763-20260112@sedberghparishcouncil.gov.uk
DTSTAMP:20260424T100235Z
DTSTART;VALUE=DATE:20260112
DTEND;VALUE=DATE:20260113
SUMMARY:Finance Committee Meeting &#8211\\; 12 January 2026
DESCRIPTION:Finance Committee Meeting\nView details: https://sedberghparishcouncil.gov.uk/meetings/finance-committee-meeting-12-january-2026/
URL:https://sedberghparishcouncil.gov.uk/meetings/finance-committee-meeting-12-january-2026/
END:VEVENT
END:VCALENDAR
