BEGIN:VCALENDAR
VERSION:2.0
PRODID:-//Sedbergh Parish Council//Meeting Calendar//EN
CALSCALE:GREGORIAN
METHOD:PUBLISH
BEGIN:VEVENT
UID:70808-20260217@sedberghparishcouncil.gov.uk
DTSTAMP:20260419T184052Z
DTSTART;VALUE=DATE:20260217
DTEND;VALUE=DATE:20260218
SUMMARY:Planning Committee 17 February 2026
DESCRIPTION:Planning Committee Meeting\nView details: https://sedberghparishcouncil.gov.uk/meetings/planning-committee-17-february-2026/
URL:https://sedberghparishcouncil.gov.uk/meetings/planning-committee-17-february-2026/
END:VEVENT
END:VCALENDAR
