BEGIN:VCALENDAR
VERSION:2.0
PRODID:-//Sedbergh Parish Council//Meeting Calendar//EN
CALSCALE:GREGORIAN
METHOD:PUBLISH
BEGIN:VEVENT
UID:70820-20260514@sedberghparishcouncil.gov.uk
DTSTAMP:20260424T082927Z
DTSTART;VALUE=DATE:20260514
DTEND;VALUE=DATE:20260515
SUMMARY:Annual Parish Meeting &#8211\\; 14 May 2026
DESCRIPTION:Annual Parish Meeting\nView details: https://sedberghparishcouncil.gov.uk/meetings/annual-parish-meetings-14-may-2026/
URL:https://sedberghparishcouncil.gov.uk/meetings/annual-parish-meetings-14-may-2026/
END:VEVENT
END:VCALENDAR
