BEGIN:VCALENDAR
VERSION:2.0
PRODID:-//Sedbergh Parish Council//Meeting Calendar//EN
CALSCALE:GREGORIAN
METHOD:PUBLISH
BEGIN:VEVENT
UID:70841-20260331@sedberghparishcouncil.gov.uk
DTSTAMP:20260419T165747Z
DTSTART;VALUE=DATE:20260331
DTEND;VALUE=DATE:20260401
SUMMARY:Planning Committee Meeting 31 March 2026
DESCRIPTION:Planning Committee Meeting\nView details: https://sedberghparishcouncil.gov.uk/meetings/planning-committee-meeting-31-march-2026/
URL:https://sedberghparishcouncil.gov.uk/meetings/planning-committee-meeting-31-march-2026/
END:VEVENT
END:VCALENDAR
