BEGIN:VCALENDAR
VERSION:2.0
PRODID:-//Sedbergh Parish Council//Meeting Calendar//EN
CALSCALE:GREGORIAN
METHOD:PUBLISH
BEGIN:VEVENT
UID:70870-20260608@sedberghparishcouncil.gov.uk
DTSTAMP:20260424T082927Z
DTSTART;VALUE=DATE:20260608
DTEND;VALUE=DATE:20260609
SUMMARY:Finance Committee Meeting &#8211\\; 8 June 2026
DESCRIPTION:Finance Committee Meeting\nView details: https://sedberghparishcouncil.gov.uk/meetings/finance-committee-meeting-8-june-2026/
URL:https://sedberghparishcouncil.gov.uk/meetings/finance-committee-meeting-8-june-2026/
END:VEVENT
END:VCALENDAR
