BEGIN:VCALENDAR
VERSION:2.0
PRODID:-//Sedbergh Parish Council//Meeting Calendar//EN
CALSCALE:GREGORIAN
METHOD:PUBLISH
BEGIN:VEVENT
UID:70873-20260907@sedberghparishcouncil.gov.uk
DTSTAMP:20260424T085229Z
DTSTART;VALUE=DATE:20260907
DTEND;VALUE=DATE:20260908
SUMMARY:Finance Committee Meeting &#8211\\; 7 September 2026
DESCRIPTION:Finance Committee Meeting\nView details: https://sedberghparishcouncil.gov.uk/meetings/finance-committee-meeting-7-september-2026/
URL:https://sedberghparishcouncil.gov.uk/meetings/finance-committee-meeting-7-september-2026/
END:VEVENT
END:VCALENDAR
