BEGIN:VCALENDAR
VERSION:2.0
PRODID:-//Sedbergh Parish Council//Meeting Calendar//EN
CALSCALE:GREGORIAN
METHOD:PUBLISH
BEGIN:VEVENT
UID:70875-20261109@sedberghparishcouncil.gov.uk
DTSTAMP:20260424T082952Z
DTSTART;VALUE=DATE:20261109
DTEND;VALUE=DATE:20261110
SUMMARY:Finance Committee Meeting &#8211\\; 9 November 2026
DESCRIPTION:Finance Committee Meeting\nView details: https://sedberghparishcouncil.gov.uk/meetings/finance-committee-meeting-9-november-2026/
URL:https://sedberghparishcouncil.gov.uk/meetings/finance-committee-meeting-9-november-2026/
END:VEVENT
END:VCALENDAR
