BEGIN:VCALENDAR
VERSION:2.0
PRODID:-//Sedbergh Parish Council//Meeting Calendar//EN
CALSCALE:GREGORIAN
METHOD:PUBLISH
BEGIN:VEVENT
UID:70879-20260611@sedberghparishcouncil.gov.uk
DTSTAMP:20260424T142557Z
DTSTART;VALUE=DATE:20260611
DTEND;VALUE=DATE:20260612
SUMMARY:Full Council Meeting &#8211\\; 11 June 2026
DESCRIPTION:Full Council Meeting\nView details: https://sedberghparishcouncil.gov.uk/meetings/full-council-meeting-11-june-2026/
URL:https://sedberghparishcouncil.gov.uk/meetings/full-council-meeting-11-june-2026/
END:VEVENT
END:VCALENDAR
