BEGIN:VCALENDAR
VERSION:2.0
PRODID:-//Sedbergh Parish Council//Meeting Calendar//EN
CALSCALE:GREGORIAN
METHOD:PUBLISH
BEGIN:VEVENT
UID:70880-20260709@sedberghparishcouncil.gov.uk
DTSTAMP:20260424T141528Z
DTSTART;VALUE=DATE:20260709
DTEND;VALUE=DATE:20260710
SUMMARY:Full Council Meeting &#8211\\; 9 July 2026
DESCRIPTION:Full Council Meeting\nView details: https://sedberghparishcouncil.gov.uk/meetings/full-council-meeting-9-july-2026/
URL:https://sedberghparishcouncil.gov.uk/meetings/full-council-meeting-9-july-2026/
END:VEVENT
END:VCALENDAR
