BEGIN:VCALENDAR
VERSION:2.0
PRODID:-//Sedbergh Parish Council//Meeting Calendar//EN
CALSCALE:GREGORIAN
METHOD:PUBLISH
BEGIN:VEVENT
UID:70881-20260813@sedberghparishcouncil.gov.uk
DTSTAMP:20260419T165915Z
DTSTART;VALUE=DATE:20260813
DTEND;VALUE=DATE:20260814
SUMMARY:Full Council Meeting &#8211\\; 13 August 2026
DESCRIPTION:Full Council Meeting\nView details: https://sedberghparishcouncil.gov.uk/meetings/full-council-meeting-13-august-2026/
URL:https://sedberghparishcouncil.gov.uk/meetings/full-council-meeting-13-august-2026/
END:VEVENT
END:VCALENDAR
