BEGIN:VCALENDAR
VERSION:2.0
PRODID:-//Sedbergh Parish Council//Meeting Calendar//EN
CALSCALE:GREGORIAN
METHOD:PUBLISH
BEGIN:VEVENT
UID:70882-20260910@sedberghparishcouncil.gov.uk
DTSTAMP:20260424T104928Z
DTSTART;VALUE=DATE:20260910
DTEND;VALUE=DATE:20260911
SUMMARY:Full Council Meeting &#8211\\; 10 September 2026
DESCRIPTION:Full Council Meeting\nView details: https://sedberghparishcouncil.gov.uk/meetings/full-council-meeting-10-september-2026/
URL:https://sedberghparishcouncil.gov.uk/meetings/full-council-meeting-10-september-2026/
END:VEVENT
END:VCALENDAR
