BEGIN:VCALENDAR
VERSION:2.0
PRODID:-//Sedbergh Parish Council//Meeting Calendar//EN
CALSCALE:GREGORIAN
METHOD:PUBLISH
BEGIN:VEVENT
UID:70883-20261008@sedberghparishcouncil.gov.uk
DTSTAMP:20260424T100830Z
DTSTART;VALUE=DATE:20261008
DTEND;VALUE=DATE:20261009
SUMMARY:Full Council Meeting &#8211\\; 8 October 2026
DESCRIPTION:Full Council Meeting\nView details: https://sedberghparishcouncil.gov.uk/meetings/full-council-meeting-8-october-2026/
URL:https://sedberghparishcouncil.gov.uk/meetings/full-council-meeting-8-october-2026/
END:VEVENT
END:VCALENDAR
